BEGIN:VCALENDAR
VERSION:2.0
PRODID:spatie/icalendar-generator
DESCRIPTION:Events from Barna Gergely
X-WR-CALDESC:Events from Barna Gergely
REFRESH-INTERVAL;VALUE=DURATION:PT1440M
X-PUBLISHED-TTL:PT1440M
BEGIN:VTIMEZONE
TZID:Europe/Budapest
BEGIN:STANDARD
DTSTART:20221030T030000Z
TZOFFSETFROM:+0200
TZOFFSETTO:+0100
END:STANDARD
BEGIN:DAYLIGHT
DTSTART:20230326T020000Z
TZOFFSETFROM:+0100
TZOFFSETTO:+0200
END:DAYLIGHT
BEGIN:STANDARD
DTSTART:20231029T030000Z
TZOFFSETFROM:+0200
TZOFFSETTO:+0100
END:STANDARD
END:VTIMEZONE
BEGIN:VTIMEZONE
TZID:UTC
BEGIN:STANDARD
DTSTART:20250725T093214Z
TZOFFSETFROM:+0000
TZOFFSETTO:+0000
END:STANDARD
END:VTIMEZONE
BEGIN:VEVENT
UID:26-22
DTSTAMP:20260421T093214Z
SUMMARY:Tiny Drones 8 - NO PAIN\, NO GAIN
LOCATION:
ORGANIZER;CN=Barna Gergely:MAILTO:info@barnagergely.hu
DTSTART;TZID=Europe/Budapest:20230625T090000
DTEND;TZID=Europe/Budapest:20230625T100000
X-ALT-DESC;FMTTYPE=TEXT/HTML:
CATEGORIES:Verseny,  Találkozó
URL;VALUE=URI:https://barnagergely.hu/esemeny/tiny-drones-8-no-pain-no-gain
 /
METHOD:PUBLISH
END:VEVENT
END:VCALENDAR